BEGIN:VCALENDAR
VERSION:2.0
PRODID:-//wp-events-plugin.com//7.2.3.1//EN
TZID:Europe/Berlin
X-WR-TIMEZONE:Europe/Berlin
BEGIN:VEVENT
UID:15@handball-weingarten.de
DTSTART;TZID=Europe/Berlin;VALUE=DATE:20240406
DTEND;TZID=Europe/Berlin;VALUE=DATE:20240407
DTSTAMP:20231214T111210Z
URL:https://handball-weingarten.de/Veranstaltungen/heimspieltag-7/
SUMMARY:Heimspieltag
DESCRIPTION:\n\n\nDamen 1\n:\nBregenz Handball\n06.04.2024\n18:00 Uhr\n\n\n
 Herren 1\n:\nTS Dornbirn\n06.04.2024\n20:00 Uhr\n\n\n
ATTACH;FMTTYPE=image/jpeg:https://handball-weingarten.de/wp-content/upload
 s/2023/11/20231209_D1_Lustenau_Insta-28.jpg
LOCATION:Großsporthalle\, Brechenmacher Str. 19\, Weingarten\, 88250\, Deu
 tschland
X-APPLE-STRUCTURED-LOCATION;VALUE=URI;X-ADDRESS=Brechenmacher Str. 19\, Wei
 ngarten\, 88250\, Deutschland;X-APPLE-RADIUS=100;X-TITLE=Großsporthalle:g
 eo:0,0
END:VEVENT
BEGIN:VTIMEZONE
TZID:Europe/Berlin
X-LIC-LOCATION:Europe/Berlin
BEGIN:DAYLIGHT
DTSTART:20240331T030000
TZOFFSETFROM:+0100
TZOFFSETTO:+0200
TZNAME:CEST
END:DAYLIGHT
END:VTIMEZONE
END:VCALENDAR