BEGIN:VCALENDAR
VERSION:2.0
PRODID:-//wp-events-plugin.com//7.2.3.1//EN
TZID:Europe/Berlin
X-WR-TIMEZONE:Europe/Berlin
BEGIN:VEVENT
UID:35@handball-weingarten.de
DTSTART;TZID=Europe/Berlin:20260508T180000
DTEND;TZID=Europe/Berlin:20260508T220000
DTSTAMP:20260423T120511Z
URL:https://handball-weingarten.de/Veranstaltungen/mitgliederversammlung-2
 026/
SUMMARY:Mitgliederversammlung 2026
DESCRIPTION:Tagesordnung:\n\n 	Begrüßung\n 	Rückblick 2025 / 2026\n 	Aus
 blick 2026/2027\n 	Berichte der Ressorts\n 	Bericht des Vorstands Finanzen
 \n 	Bericht der Kassenprüfer\n 	Entlastung des Vorstands\n 	Neuwahlen (1.
  Vorstandsvorsitzender\, Vorstand Finanzen\, Vorstand Jugend männlich\, K
 oordinator\nAktive männlich\, Vorstand Kinderhandball\, Schiedsrichterobm
 ann\, Vorstand Beachhandball\,\nKassenwart\, Kassenprüfer)\n 	Anträge / 
 Verschiedenes\n\nEinladung Mitgliederhauptversammlung\n\n .wp-block-list: 
 color: white\;
ATTACH;FMTTYPE=image/jpeg:https://handball-weingarten.de/wp-content/upload
 s/2024/04/TVW-Banner-hoch.png
LOCATION:Fanfarenheim Weingarten\, Talstraße 91\, Weingarten\, Baden-Würt
 temberg\, 88250\, Deutschland
X-APPLE-STRUCTURED-LOCATION;VALUE=URI;X-ADDRESS=Talstraße 91\, Weingarten\
 , Baden-Württemberg\, 88250\, Deutschland;X-APPLE-RADIUS=100;X-TITLE=Fanf
 arenheim Weingarten:geo:0,0
END:VEVENT
BEGIN:VTIMEZONE
TZID:Europe/Berlin
X-LIC-LOCATION:Europe/Berlin
BEGIN:DAYLIGHT
DTSTART:20260329T030000
TZOFFSETFROM:+0100
TZOFFSETTO:+0200
TZNAME:CEST
END:DAYLIGHT
END:VTIMEZONE
END:VCALENDAR