BEGIN:VCALENDAR
VERSION:2.0
PRODID:-//wp-events-plugin.com//7.2.3.1//EN
TZID:Europe/Berlin
X-WR-TIMEZONE:Europe/Berlin
BEGIN:VEVENT
UID:34@handball-weingarten.de
DTSTART;TZID=Europe/Berlin:20260512T193000
DTEND;TZID=Europe/Berlin:20260512T220000
DTSTAMP:20260420T184932Z
URL:https://handball-weingarten.de/Veranstaltungen/mitgliederversammlung-d
 es-foerdervereins-2026/
SUMMARY:Mitgliederversammlung des Fördervereins 2026
DESCRIPTION:Tagesordnung:\n\n 	Begrüßung\n 	Bericht des Vorstandes\n 	Ber
 icht vom TVW-Handball\n 	Bericht der Kassenwartin\n 	Kassenprüfungsberich
 t der Kassenprüfer\n 	Entlastung der Kassenwartin und des Vorstandes\n 	N
 euwahlen:\n\n 	2. Vorsitzende/r\; Kassenwart/in\; ein Kassenprüfer\n\n\n 
 	Anträge\n 	Sonstiges\n\n&nbsp\;\n\nEinladung Mitgliederhauptversammlung\
 n\n .wp-block-list: color: white\;
ATTACH;FMTTYPE=image/jpeg:https://handball-weingarten.de/wp-content/upload
 s/2024/04/TVW-Banner-hoch.png
LOCATION:Gasthaus Rössle\, Friedhofstr. 3\, Weingarten\, Baden-Württember
 g\, 88250\, Deutschland
X-APPLE-STRUCTURED-LOCATION;VALUE=URI;X-ADDRESS=Friedhofstr. 3\, Weingarten
 \, Baden-Württemberg\, 88250\, Deutschland;X-APPLE-RADIUS=100;X-TITLE=Gas
 thaus Rössle:geo:0,0
END:VEVENT
BEGIN:VTIMEZONE
TZID:Europe/Berlin
X-LIC-LOCATION:Europe/Berlin
BEGIN:DAYLIGHT
DTSTART:20260329T030000
TZOFFSETFROM:+0100
TZOFFSETTO:+0200
TZNAME:CEST
END:DAYLIGHT
END:VTIMEZONE
END:VCALENDAR